BEGIN:VCALENDAR
VERSION:2.0
PRODID:-//Dmytro Choni - ECPv5.16.3.1//NONSGML v1.0//EN
CALSCALE:GREGORIAN
METHOD:PUBLISH
X-WR-CALNAME:Dmytro Choni
X-ORIGINAL-URL:https://dmytrochoni.com
X-WR-CALDESC:Events for Dmytro Choni
REFRESH-INTERVAL;VALUE=DURATION:PT1H
X-Robots-Tag:noindex
X-PUBLISHED-TTL:PT1H
BEGIN:VTIMEZONE
TZID:Europe/Berlin
BEGIN:DAYLIGHT
TZOFFSETFROM:+0100
TZOFFSETTO:+0200
TZNAME:CEST
DTSTART:20240331T010000
END:DAYLIGHT
BEGIN:STANDARD
TZOFFSETFROM:+0200
TZOFFSETTO:+0100
TZNAME:CET
DTSTART:20241027T010000
END:STANDARD
BEGIN:DAYLIGHT
TZOFFSETFROM:+0100
TZOFFSETTO:+0200
TZNAME:CEST
DTSTART:20250330T010000
END:DAYLIGHT
BEGIN:STANDARD
TZOFFSETFROM:+0200
TZOFFSETTO:+0100
TZNAME:CET
DTSTART:20251026T010000
END:STANDARD
END:VTIMEZONE
BEGIN:VEVENT
DTSTART;TZID=Europe/Berlin:20240830T200000
DTEND;TZID=Europe/Berlin:20240830T200000
DTSTAMP:20260422T063438
CREATED:20240515T163237Z
LAST-MODIFIED:20240616T151855Z
UID:25702-1725048000-1725048000@dmytrochoni.com
SUMMARY:Rostock
DESCRIPTION:Johannes Brahms: Sonata No. 1 in F minor\, op. 120 no. 1\nKarol Szymanowski: Myths\, op. 30\nFranz Schubert: Introduction and Variations “Trockne Blumen”\, D 802\nBela Bartók: Sonata no. 2 for violin and piano\, Sz.76
URL:https://dmytrochoni.com/event/rostock-duo-concert-with-frank-peter-zimmermann-violin/
LOCATION:Villa Papendorf\, Papendorf\, Germany
END:VEVENT
BEGIN:VEVENT
DTSTART;TZID=Europe/Berlin:20250821T200000
DTEND;TZID=Europe/Berlin:20250821T200000
DTSTAMP:20260422T063438
CREATED:20250802T170934Z
LAST-MODIFIED:20250802T170934Z
UID:25937-1755806400-1755806400@dmytrochoni.com
SUMMARY:Villa Papendorf
DESCRIPTION:SCHUBERT Sonatina in A Minor\, D.385\nWEBERN 4 Pieces\, Op.7\nSCHUBERT Introduction and Variations „Trockne Blumen“\, D.802\nSCHÖNBERG Phantasy\, Op.47\nSCHUBERT Fantasie in C Major\, D.934
URL:https://dmytrochoni.com/event/villa-papendorf/
LOCATION:Villa Papendorf\, Papendorf\, Germany
END:VEVENT
END:VCALENDAR