BEGIN:VCALENDAR
VERSION:2.0
PRODID:-//Dmytro Choni - ECPv5.16.3.1//NONSGML v1.0//EN
CALSCALE:GREGORIAN
METHOD:PUBLISH
X-ORIGINAL-URL:https://dmytrochoni.com
X-WR-CALDESC:Events for Dmytro Choni
REFRESH-INTERVAL;VALUE=DURATION:PT1H
X-Robots-Tag:noindex
X-PUBLISHED-TTL:PT1H
BEGIN:VTIMEZONE
TZID:Europe/Berlin
BEGIN:DAYLIGHT
TZOFFSETFROM:+0100
TZOFFSETTO:+0200
TZNAME:CEST
DTSTART:20250330T010000
END:DAYLIGHT
BEGIN:STANDARD
TZOFFSETFROM:+0200
TZOFFSETTO:+0100
TZNAME:CET
DTSTART:20251026T010000
END:STANDARD
END:VTIMEZONE
BEGIN:VEVENT
DTSTART;TZID=Europe/Berlin:20251017T200000
DTEND;TZID=Europe/Berlin:20251017T200000
DTSTAMP:20260422T004621
CREATED:20250802T180619Z
LAST-MODIFIED:20250802T182531Z
UID:25946-1760731200-1760731200@dmytrochoni.com
SUMMARY:Bielefelder Philharmoniker
DESCRIPTION:RACHMANINOFF Piano Concerto No. 3 in D minor\, Op. 30
URL:https://dmytrochoni.com/event/bielefelder-philharmoniker/2025-10-17/
LOCATION:Rudolf-Oetker-Halle\, Bielefeld\, Germany
END:VEVENT
BEGIN:VEVENT
DTSTART;TZID=Europe/Berlin:20251019T110000
DTEND;TZID=Europe/Berlin:20251019T110000
DTSTAMP:20260422T004621
CREATED:20250802T180619Z
LAST-MODIFIED:20250802T180619Z
UID:25955-1760871600-1760871600@dmytrochoni.com
SUMMARY:Bielefelder Philharmoniker
DESCRIPTION:RACHMANINOFF Piano Concerto No. 3 in D minor\, Op. 30
URL:https://dmytrochoni.com/event/bielefelder-philharmoniker/2025-10-19/
LOCATION:Rudolf-Oetker-Halle\, Bielefeld\, Germany
END:VEVENT
END:VCALENDAR