BEGIN:VCALENDAR
VERSION:2.0
PRODID:-//Dmytro Choni - ECPv5.16.3.1//NONSGML v1.0//EN
CALSCALE:GREGORIAN
METHOD:PUBLISH
X-ORIGINAL-URL:https://dmytrochoni.com
X-WR-CALDESC:Events for Dmytro Choni
REFRESH-INTERVAL;VALUE=DURATION:PT1H
X-Robots-Tag:noindex
X-PUBLISHED-TTL:PT1H
BEGIN:VTIMEZONE
TZID:Asia/Shanghai
BEGIN:STANDARD
TZOFFSETFROM:+0800
TZOFFSETTO:+0800
TZNAME:CST
DTSTART:20250101T000000
END:STANDARD
END:VTIMEZONE
BEGIN:VEVENT
DTSTART;TZID=Asia/Shanghai:20250518T193000
DTEND;TZID=Asia/Shanghai:20250518T193000
DTSTAMP:20260422T112136
CREATED:20250403T211917Z
LAST-MODIFIED:20250403T211917Z
UID:25925-1747596600-1747596600@dmytrochoni.com
SUMMARY:China Tour
DESCRIPTION:DEBUSSY Prélude “Les Collines d’Anacapri”\, Book 1 No. 5\nDEBUSSY Prélude “Des pas sur la neige”\, Book 1 No. 6\nDEBUSSY “L’Isle Joyeuse”\nSILVESTROV 4 Pieces\, Op. 2\nBRAHMS 4 Pieces\, Op. 119\n———–\nSCHUMANN Novellette in F-sharp Minor\, Op. 21 No. 8\nSCHUMANN Sonata No. 2 in G Minor\, Op. 22
URL:https://dmytrochoni.com/event/china-tour-5/
LOCATION:Pingtan Grand Theater\, Pingtan\, China
END:VEVENT
END:VCALENDAR