BEGIN:VCALENDAR
VERSION:2.0
PRODID:-//Dmytro Choni - ECPv5.16.3.1//NONSGML v1.0//EN
CALSCALE:GREGORIAN
METHOD:PUBLISH
X-WR-CALNAME:Dmytro Choni
X-ORIGINAL-URL:https://dmytrochoni.com
X-WR-CALDESC:Events for Dmytro Choni
REFRESH-INTERVAL;VALUE=DURATION:PT1H
X-Robots-Tag:noindex
X-PUBLISHED-TTL:PT1H
BEGIN:VTIMEZONE
TZID:Europe/Berlin
BEGIN:DAYLIGHT
TZOFFSETFROM:+0100
TZOFFSETTO:+0200
TZNAME:CEST
DTSTART:20250330T010000
END:DAYLIGHT
BEGIN:STANDARD
TZOFFSETFROM:+0200
TZOFFSETTO:+0100
TZNAME:CET
DTSTART:20251026T010000
END:STANDARD
END:VTIMEZONE
BEGIN:VEVENT
DTSTART;TZID=Europe/Berlin:20250503T190000
DTEND;TZID=Europe/Berlin:20250503T190000
DTSTAMP:20260422T180846
CREATED:20250117T205936Z
LAST-MODIFIED:20250403T212141Z
UID:25890-1746298800-1746298800@dmytrochoni.com
SUMMARY:Stars & Rising Stars Munich
DESCRIPTION:BRAHMS Piano Trio No.1 in B Major\, Op. 8\nMENDELSSOHN Piano Trio No.1 in D Minor\, Op. 49\nDEBUSSY Prélude “Des pas sur la neige”\, Book 1 No. 6\nDEBUSSY “L’Isle Joyeuse”
URL:https://dmytrochoni.com/event/stars-rising-stars-munich/
LOCATION:Künstlerhaus am Lenbachplatz\, Lenbachplatz 8\, Munich\, 80333\, Germany
END:VEVENT
END:VCALENDAR