BEGIN:VCALENDAR
VERSION:2.0
PRODID:-//Dmytro Choni - ECPv5.16.3.1//NONSGML v1.0//EN
CALSCALE:GREGORIAN
METHOD:PUBLISH
X-ORIGINAL-URL:https://dmytrochoni.com
X-WR-CALDESC:Events for Dmytro Choni
REFRESH-INTERVAL;VALUE=DURATION:PT1H
X-Robots-Tag:noindex
X-PUBLISHED-TTL:PT1H
BEGIN:VTIMEZONE
TZID:Europe/Zagreb
BEGIN:DAYLIGHT
TZOFFSETFROM:+0100
TZOFFSETTO:+0200
TZNAME:CEST
DTSTART:20250330T010000
END:DAYLIGHT
BEGIN:STANDARD
TZOFFSETFROM:+0200
TZOFFSETTO:+0100
TZNAME:CET
DTSTART:20251026T010000
END:STANDARD
END:VTIMEZONE
BEGIN:VEVENT
DTSTART;TZID=Europe/Zagreb:20250918T200000
DTEND;TZID=Europe/Zagreb:20250918T200000
DTSTAMP:20260422T050243
CREATED:20250802T173755Z
LAST-MODIFIED:20250802T182807Z
UID:25939-1758225600-1758225600@dmytrochoni.com
SUMMARY:Split Festival
DESCRIPTION:BRAHMS 4 Pieces\, op.119\nSCHUMANN Sonata No.2 in G Minor\, Op.22\nDEBUSSY 6 Préludes:\nLes Collines d’Anacapri (Book 1 No. 5)\nDes pas sur la neige (Book 1 No. 6)\nOndine (Book 2 No.8)\nFeux d’artifice (Book 2 No.12)\nLa fille aux cheveux de lin (Book 1 No.8)\nCe qu’a vu le vent d’Ouest (Book 1 No.7)\nLIEBERMANN Gargoyles\, Op.29
URL:https://dmytrochoni.com/event/split-festival/
LOCATION:Hrvatski Dom Split\, Split\, Croatia (Local Name: Hrvatska)
END:VEVENT
END:VCALENDAR