BEGIN:VCALENDAR
VERSION:2.0
PRODID:-//Dmytro Choni - ECPv5.16.3.1//NONSGML v1.0//EN
CALSCALE:GREGORIAN
METHOD:PUBLISH
X-ORIGINAL-URL:https://dmytrochoni.com
X-WR-CALDESC:Events for Dmytro Choni
REFRESH-INTERVAL;VALUE=DURATION:PT1H
X-Robots-Tag:noindex
X-PUBLISHED-TTL:PT1H
BEGIN:VTIMEZONE
TZID:Europe/Paris
BEGIN:DAYLIGHT
TZOFFSETFROM:+0100
TZOFFSETTO:+0200
TZNAME:CEST
DTSTART:20250330T010000
END:DAYLIGHT
BEGIN:STANDARD
TZOFFSETFROM:+0200
TZOFFSETTO:+0100
TZNAME:CET
DTSTART:20251026T010000
END:STANDARD
END:VTIMEZONE
BEGIN:VEVENT
DTSTART;TZID=Europe/Paris:20250614T160000
DTEND;TZID=Europe/Paris:20250614T160000
DTSTAMP:20260422T075840
CREATED:20240820T214939Z
LAST-MODIFIED:20250802T165324Z
UID:25815-1749916800-1749916800@dmytrochoni.com
SUMMARY:Lille Piano Festival
DESCRIPTION:BRAHMS Four Pieces for Piano\, op. 119\nSILVESTROV Four Pieces\, op. 2\nLYSENKO Rhapsody on Ukrainian Folk Themes No. 2 “Dumka-Shumka”\, op. 18\nSCHUMANN Piano Sonata No. 2 in G minor\, op. 22
URL:https://dmytrochoni.com/event/lille-piano-festival/
LOCATION:Conservatoire de Lille\, Lille\, France
END:VEVENT
END:VCALENDAR