BEGIN:VCALENDAR
VERSION:2.0
PRODID:-//Dmytro Choni - ECPv5.16.3.1//NONSGML v1.0//EN
CALSCALE:GREGORIAN
METHOD:PUBLISH
X-ORIGINAL-URL:https://dmytrochoni.com
X-WR-CALDESC:Events for Dmytro Choni
REFRESH-INTERVAL;VALUE=DURATION:PT1H
X-Robots-Tag:noindex
X-PUBLISHED-TTL:PT1H
BEGIN:VTIMEZONE
TZID:Europe/Berlin
BEGIN:DAYLIGHT
TZOFFSETFROM:+0100
TZOFFSETTO:+0200
TZNAME:CEST
DTSTART:20250330T010000
END:DAYLIGHT
BEGIN:STANDARD
TZOFFSETFROM:+0200
TZOFFSETTO:+0100
TZNAME:CET
DTSTART:20251026T010000
END:STANDARD
END:VTIMEZONE
BEGIN:VEVENT
DTSTART;TZID=Europe/Berlin:20251129T200000
DTEND;TZID=Europe/Berlin:20251129T200000
DTSTAMP:20260421T232145
CREATED:20250802T183613Z
LAST-MODIFIED:20250802T183841Z
UID:25958-1764446400-1764446400@dmytrochoni.com
SUMMARY:Bagno Konzertgalerie Steinfurt
DESCRIPTION:SCHUBERT Sonatina in A Minor\, D.385\nWEBERN 4 Pieces\, Op.7\nSCHUBERT Introduction and Variations „Trockne Blumen“\, D.802\nSCHÖNBERG Phantasy\, Op.47\nSCHUBERT Fantasie in C Major\, D.934
URL:https://dmytrochoni.com/event/bagno-konzertgalerie-steinfurt/
LOCATION:Bagno Konzertgalerie\, Steinfurt\, Germany
END:VEVENT
END:VCALENDAR