BEGIN:VCALENDAR
VERSION:2.0
PRODID:-//Dmytro Choni - ECPv5.16.3.1//NONSGML v1.0//EN
CALSCALE:GREGORIAN
METHOD:PUBLISH
X-ORIGINAL-URL:https://dmytrochoni.com
X-WR-CALDESC:Events for Dmytro Choni
REFRESH-INTERVAL;VALUE=DURATION:PT1H
X-Robots-Tag:noindex
X-PUBLISHED-TTL:PT1H
BEGIN:VTIMEZONE
TZID:Europe/Brussels
BEGIN:DAYLIGHT
TZOFFSETFROM:+0100
TZOFFSETTO:+0200
TZNAME:CEST
DTSTART:20260329T010000
END:DAYLIGHT
BEGIN:STANDARD
TZOFFSETFROM:+0200
TZOFFSETTO:+0100
TZNAME:CET
DTSTART:20261025T010000
END:STANDARD
END:VTIMEZONE
BEGIN:VEVENT
DTSTART;TZID=Europe/Brussels:20260214T183000
DTEND;TZID=Europe/Brussels:20260214T183000
DTSTAMP:20260421T155015
CREATED:20250802T195151Z
LAST-MODIFIED:20250802T195151Z
UID:25973-1771093800-1771093800@dmytrochoni.com
SUMMARY:Flagey Piano Days
DESCRIPTION:DEBUSSY 6 Préludes:\nLes Collines d’Anacapri (Book 1 No. 5)\nDes pas sur la neige (Book 1 No. 6)\nOndine (Book 2 No.8)\nFeux d’artifice (Book 2 No.12)\nLa fille aux cheveux de lin (Book 1 No.8)\nCe qu’a vu le vent d’Ouest (Book 1 No.7\nBRAHMS 4 Pieces\, op.119\nMENDELSSOHN 6 Songs without words\nLYSENKO Rhapsody on Ukrainian Folk Themes No.2 “Dumka-Shumka”\, Op.18
URL:https://dmytrochoni.com/event/flagey-piano-days/
LOCATION:Flagey Studio 1\, Brussels\, Belgium
END:VEVENT
END:VCALENDAR